{"text_format":"1","workbook":"xlsx","n_sheets":2,"sheets":["W2_NE","Sheet2"],"not_rendered":{"charts":0,"images":2,"macros":1,"external_links":0,"defined_names":1,"comments":0,"pivot_tables":0},"unopened":[],"bounds":{"document_bytes":16777216,"sheet_cells":100000,"rows_first":2000,"rows_last":500,"rows_between":2000,"halvings":0,"cell_chars":16384,"cell_head_chars":4096},"cells_cut":0,"cells_raw":0,"read":"whole","date_system":"1900"}

{"sheet":"W2_NE","index":0,"n_rows":6,"n_cols":25,"rows_kept":6,"cut":false,"hidden":false,"merged":[]}
[]
[null,"Employer Information:",null,null,null,null,null,null,null,null,null,null,null,null,null,{"$f":"TEXT(remsym(A4),\"000000000\")","v":""},{"$f":"B4&REPT(\" \",57-LEN(B4))","v":"                                                         "},{"$f":"TEXT(C4,\"000000000\")","v":"000000000"},{"$f":"D4","v":2025},{"$f":"E4&REPT(\" \",22-LEN(E4))","v":"                      "},{"$f":"F4&REPT(\" \",22-LEN(F4))","v":"                      "},{"$f":"TEXT(C4,\"00000000000000000000\")","v":"00000000000000000000"},null,null,{"$f":"TEXT(Y4,\"0000000\")","v":"0000000"}]
["Federal ID Number (No Dashes)","Employer Name","Nebraska Withholding Account #","Payment Year","Employer's Address","City","State","Zip Code"]
[null,null,null,2025,null,null,null,null,null,null,null,null,null,null,null,null,{"$f":"TEXT(I5*100,\"0000000000000000\")","v":"0000000000000000"},{"$f":"TEXT(J5*100,\"0000000000000000\")","v":"0000000000000000"},"0000000000000000","0000000000000000","0000000000000000","0000000000000000",null,false,{"$f":"COUNTA(A7:A12000)","v":0}]
[null,"Employee Information:",null,null,null,null,null,"TOTAL:",{"$f":"SUM(I7:I12000)","v":0},{"$f":"SUM(J7:J12000)","v":0},{"$f":"SUM(K7:K12000)","v":0},{"$f":"SUM(L7:L12000)","v":0},{"$f":"SUM(M7:M12000)","v":0},{"$f":"SUM(N7:N12000)","v":0},null,null,null,null,null,null,null,null,"R010","Programming_mode:",false]
["SSN (No Dashes)","Last Name                                         20 Chars","First Name                   15 Chars","MI (Optional)","Address                                  22 Chars","City                                         22 Chars","State (Two-Char Abbrev.)","Zip Code (Five Digit)","(Box 1)   Wages, Tips, Other Compensation","(Box 2) Federal Income Tax Withheld","(Box 3) Social Security Wages","(Box 4) Social Security Tax Withheld","(Box 16) Nebraska Wages,Tips, Etc.","(Box 17) State Income Tax Withheld for Nebraska"]

{"sheet":"Sheet2","index":1,"n_rows":7,"n_cols":14,"rows_kept":7,"cut":false,"hidden":true,"merged":[]}
[{"$f":"TEXT(remsym(W2_NE!A7),\"000000000\")","v":""},{"$f":"W2_NE!B7&REPT(\" \",20-LEN(W2_NE!B7))","v":"                    "},{"$f":"W2_NE!C7&REPT(\" \",15-LEN(W2_NE!C7))","v":"               "},{"$f":"W2_NE!D7&REPT( \" \",15-LEN(W2_NE!D7))","v":"               "},{"$f":"W2_NE!E7&REPT(\" \",22-LEN(W2_NE!E7))","v":"                      "},{"$f":"W2_NE!F7&REPT(\" \",22-LEN(W2_NE!F7))","v":"                      "},{"$f":"W2_NE!G7","v":0},{"$f":"TEXT(W2_NE!H7,\"00000\")","v":"00000"},{"$f":"TEXT(W2_NE!I7*100,\"00000000000\")","v":"00000000000"},{"$f":"TEXT(W2_NE!J7*100,\"00000000000\")","v":"00000000000"},{"$f":"TEXT(W2_NE!K7*100,\"00000000000\")","v":"00000000000"},{"$f":"TEXT(W2_NE!L7*100,\"00000000000\")","v":"00000000000"},{"$f":"TEXT(W2_NE!M7*100,\"00000000000\")","v":"00000000000"},{"$f":"TEXT(W2_NE!N7*100,\"00000000000\")","v":"00000000000"}]
[{"$f":"TEXT(remsym(W2_NE!A8),\"000000000\")","v":""},{"$f":"W2_NE!B8&REPT(\" \",20-LEN(W2_NE!B8))","v":"                    "},{"$f":"W2_NE!C8&REPT(\" \",15-LEN(W2_NE!C8))","v":"               "},{"$f":"W2_NE!D8&REPT( \" \",15-LEN(W2_NE!D8))","v":"               "},{"$f":"W2_NE!E8&REPT(\" \",22-LEN(W2_NE!E8))","v":"                      "},{"$f":"W2_NE!F8&REPT(\" \",22-LEN(W2_NE!F8))","v":"                      "},{"$f":"W2_NE!G8","v":0},{"$f":"TEXT(W2_NE!H8,\"00000\")","v":"00000"},{"$f":"TEXT(W2_NE!I8*100,\"00000000000\")","v":"00000000000"},{"$f":"TEXT(W2_NE!J8*100,\"00000000000\")","v":"00000000000"},{"$f":"TEXT(W2_NE!K8*100,\"00000000000\")","v":"00000000000"},{"$f":"TEXT(W2_NE!L8*100,\"00000000000\")","v":"00000000000"},{"$f":"TEXT(W2_NE!M8*100,\"00000000000\")","v":"00000000000"},{"$f":"TEXT(W2_NE!N8*100,\"00000000000\")","v":"00000000000"}]
[{"$f":"TEXT(remsym(W2_NE!A9),\"000000000\")","v":""},{"$f":"W2_NE!B9&REPT(\" \",20-LEN(W2_NE!B9))","v":"                    "},{"$f":"W2_NE!C9&REPT(\" \",15-LEN(W2_NE!C9))","v":"               "},{"$f":"W2_NE!D9&REPT( \" \",15-LEN(W2_NE!D9))","v":"               "},{"$f":"W2_NE!E9&REPT(\" \",22-LEN(W2_NE!E9))","v":"                      "},{"$f":"W2_NE!F9&REPT(\" \",22-LEN(W2_NE!F9))","v":"                      "},{"$f":"W2_NE!G9","v":0},{"$f":"TEXT(W2_NE!H9,\"00000\")","v":"00000"},{"$f":"TEXT(W2_NE!I9*100,\"00000000000\")","v":"00000000000"},{"$f":"TEXT(W2_NE!J9*100,\"00000000000\")","v":"00000000000"},{"$f":"TEXT(W2_NE!K9*100,\"00000000000\")","v":"00000000000"},{"$f":"TEXT(W2_NE!L9*100,\"00000000000\")","v":"00000000000"},{"$f":"TEXT(W2_NE!M9*100,\"00000000000\")","v":"00000000000"},{"$f":"TEXT(W2_NE!N9*100,\"00000000000\")","v":"00000000000"}]
[{"$f":"TEXT(remsym(W2_NE!A10),\"000000000\")","v":""},{"$f":"W2_NE!B10&REPT(\" \",20-LEN(W2_NE!B10))","v":"                    "},{"$f":"W2_NE!C10&REPT(\" \",15-LEN(W2_NE!C10))","v":"               "},{"$f":"W2_NE!D10&REPT( \" \",15-LEN(W2_NE!D10))","v":"               "},{"$f":"W2_NE!E10&REPT(\" \",22-LEN(W2_NE!E10))","v":"                      "},{"$f":"W2_NE!F10&REPT(\" \",22-LEN(W2_NE!F10))","v":"                      "},{"$f":"W2_NE!G10","v":0},{"$f":"TEXT(W2_NE!H10,\"00000\")","v":"00000"},{"$f":"TEXT(W2_NE!I10*100,\"00000000000\")","v":"00000000000"},{"$f":"TEXT(W2_NE!J10*100,\"00000000000\")","v":"00000000000"},{"$f":"TEXT(W2_NE!K10*100,\"00000000000\")","v":"00000000000"},{"$f":"TEXT(W2_NE!L10*100,\"00000000000\")","v":"00000000000"},{"$f":"TEXT(W2_NE!M10*100,\"00000000000\")","v":"00000000000"},{"$f":"TEXT(W2_NE!N10*100,\"00000000000\")","v":"00000000000"}]
[{"$f":"TEXT(remsym(W2_NE!A11),\"000000000\")","v":""},{"$f":"W2_NE!B11&REPT(\" \",20-LEN(W2_NE!B11))","v":"                    "},{"$f":"W2_NE!C11&REPT(\" \",15-LEN(W2_NE!C11))","v":"               "},{"$f":"W2_NE!D11&REPT( \" \",15-LEN(W2_NE!D11))","v":"               "},{"$f":"W2_NE!E11&REPT(\" \",22-LEN(W2_NE!E11))","v":"                      "},{"$f":"W2_NE!F11&REPT(\" \",22-LEN(W2_NE!F11))","v":"                      "},{"$f":"W2_NE!G11","v":0},{"$f":"TEXT(W2_NE!H11,\"00000\")","v":"00000"},{"$f":"TEXT(W2_NE!I11*100,\"00000000000\")","v":"00000000000"},{"$f":"TEXT(W2_NE!J11*100,\"00000000000\")","v":"00000000000"},{"$f":"TEXT(W2_NE!K11*100,\"00000000000\")","v":"00000000000"},{"$f":"TEXT(W2_NE!L11*100,\"00000000000\")","v":"00000000000"},{"$f":"TEXT(W2_NE!M11*100,\"00000000000\")","v":"00000000000"},{"$f":"TEXT(W2_NE!N11*100,\"00000000000\")","v":"00000000000"}]
[{"$f":"TEXT(remsym(W2_NE!A12),\"000000000\")","v":""},{"$f":"W2_NE!B12&REPT(\" \",20-LEN(W2_NE!B12))","v":"                    "},{"$f":"W2_NE!C12&REPT(\" \",15-LEN(W2_NE!C12))","v":"               "},{"$f":"W2_NE!D12&REPT( \" \",15-LEN(W2_NE!D12))","v":"               "},{"$f":"W2_NE!E12&REPT(\" \",22-LEN(W2_NE!E12))","v":"                      "},{"$f":"W2_NE!F12&REPT(\" \",22-LEN(W2_NE!F12))","v":"                      "},{"$f":"W2_NE!G12","v":0},{"$f":"TEXT(W2_NE!H12,\"00000\")","v":"00000"},{"$f":"TEXT(W2_NE!I12*100,\"00000000000\")","v":"00000000000"},{"$f":"TEXT(W2_NE!J12*100,\"00000000000\")","v":"00000000000"},{"$f":"TEXT(W2_NE!K12*100,\"00000000000\")","v":"00000000000"},{"$f":"TEXT(W2_NE!L12*100,\"00000000000\")","v":"00000000000"},{"$f":"TEXT(W2_NE!M12*100,\"00000000000\")","v":"00000000000"},{"$f":"TEXT(W2_NE!N12*100,\"00000000000\")","v":"00000000000"}]
[{"$f":"TEXT(remsym(W2_NE!A13),\"000000000\")","v":""},{"$f":"W2_NE!B13&REPT(\" \",20-LEN(W2_NE!B13))","v":"                    "},{"$f":"W2_NE!C13&REPT(\" \",15-LEN(W2_NE!C13))","v":"               "},{"$f":"W2_NE!D13&REPT( \" \",15-LEN(W2_NE!D13))","v":"               "},{"$f":"W2_NE!E13&REPT(\" \",22-LEN(W2_NE!E13))","v":"                      "},{"$f":"W2_NE!F13&REPT(\" \",22-LEN(W2_NE!F13))","v":"                      "},{"$f":"W2_NE!G13","v":0},{"$f":"TEXT(W2_NE!H13,\"00000\")","v":"00000"},{"$f":"TEXT(W2_NE!I13*100,\"00000000000\")","v":"00000000000"},{"$f":"TEXT(W2_NE!J13*100,\"00000000000\")","v":"00000000000"},{"$f":"TEXT(W2_NE!K13*100,\"00000000000\")","v":"00000000000"},{"$f":"TEXT(W2_NE!L13*100,\"00000000000\")","v":"00000000000"},{"$f":"TEXT(W2_NE!M13*100,\"00000000000\")","v":"00000000000"},{"$f":"TEXT(W2_NE!N13*100,\"00000000000\")","v":"00000000000"}]